BEGIN:VCALENDAR
VERSION:2.0
PRODID:-//Juleica Thüringen - ECPv6.15.17.1//NONSGML v1.0//EN
CALSCALE:GREGORIAN
METHOD:PUBLISH
X-WR-CALNAME:Juleica Thüringen
X-ORIGINAL-URL:https://juleica.ljrt.de
X-WR-CALDESC:Veranstaltungen für Juleica Thüringen
REFRESH-INTERVAL;VALUE=DURATION:PT1H
X-Robots-Tag:noindex
X-PUBLISHED-TTL:PT1H
BEGIN:VTIMEZONE
TZID:Europe/Berlin
BEGIN:DAYLIGHT
TZOFFSETFROM:+0100
TZOFFSETTO:+0200
TZNAME:CEST
DTSTART:20230326T010000
END:DAYLIGHT
BEGIN:STANDARD
TZOFFSETFROM:+0200
TZOFFSETTO:+0100
TZNAME:CET
DTSTART:20231029T010000
END:STANDARD
BEGIN:DAYLIGHT
TZOFFSETFROM:+0100
TZOFFSETTO:+0200
TZNAME:CEST
DTSTART:20240331T010000
END:DAYLIGHT
BEGIN:STANDARD
TZOFFSETFROM:+0200
TZOFFSETTO:+0100
TZNAME:CET
DTSTART:20241027T010000
END:STANDARD
BEGIN:DAYLIGHT
TZOFFSETFROM:+0100
TZOFFSETTO:+0200
TZNAME:CEST
DTSTART:20250330T010000
END:DAYLIGHT
BEGIN:STANDARD
TZOFFSETFROM:+0200
TZOFFSETTO:+0100
TZNAME:CET
DTSTART:20251026T010000
END:STANDARD
BEGIN:DAYLIGHT
TZOFFSETFROM:+0100
TZOFFSETTO:+0200
TZNAME:CEST
DTSTART:20260329T010000
END:DAYLIGHT
BEGIN:STANDARD
TZOFFSETFROM:+0200
TZOFFSETTO:+0100
TZNAME:CET
DTSTART:20261025T010000
END:STANDARD
END:VTIMEZONE
BEGIN:VEVENT
DTSTART;VALUE=DATE:20251107
DTEND;VALUE=DATE:20251110
DTSTAMP:20260422T071356
CREATED:20250105T102147Z
LAST-MODIFIED:20250207T125326Z
UID:10000161-1762473600-1762732799@juleica.ljrt.de
SUMMARY:Erste Hilfe Outdoor
DESCRIPTION:Erste Hilfe Outdoor \nTermin: 07.-09.11.2025 \nSchulungsinhalte:\nFür alle Naturinteressierten\, die beim Wandern\, Klettern\, Paddeln\, Trekken oder in der Erlebnispädagogik fit für den Notfall in der Natur sein wollen\, bieten wir zusammen mit der Outdoorschule Süd ein dreitägiges Seminar an. Starke Schmerzen\, Atemnot\, Aufregung! Bist du in der Lage\, den Überblick zu behalten und die richtigen Entscheidungen zu treffen? Wir bringen dich in solch schwierige Situationen – natürlich nur zum Training. Beim Seminar „Erste Hilfe Outdoor“ lernst du\, im Notfall ruhig zu bleiben\, die richtigen Prioritäten zu setzen und erfolgreich Erste Hilfe zu leisten. \nZielgruppe:\nJugendliche und junge Erwachsene sowie Gruppenleiter*innen und alle\, die es werden wollen. \nLeistungen:\nÜbernachtung\, Verpflegung\, Programm und Teilnahmebescheinigung. \nTeilnehmerbetrag: 190 € \nVeranstaltungsort:\nNaturErlebnisHaus Jena \nVeranstalter:\nNaturschutzjugend Thüringen\nLeutra 15\n07751 Jena\nTelefon: 03641-215410\nstefan.bretz@naju-thueringen.de \nAnmeldung unter: naju-thueringen.de/veranstaltungen/ \nSonstige Hinweise:\nDie An- und Abreise muss selbst organisiert und finanziert werden. \nNaturpädagogik kompakt\nSeminar Naturpädagogik
URL:https://juleica.ljrt.de/event/erste-hilfe-outdoor/
LOCATION:NaturErlebnisHaus Leutratal\, Bucha\, 07751
CATEGORIES:Fortbildung
ATTACH;FMTTYPE=image/jpeg:https://juleica.ljrt.de/wp-content/uploads/2023/12/erstehilfe-outdoor-2.jpg
ORGANIZER;CN="Naturschutzjugend Th%C3%BCringen":MAILTO:info@naju-thueringen.de
END:VEVENT
BEGIN:VEVENT
DTSTART;VALUE=DATE:20251019
DTEND;VALUE=DATE:20251020
DTSTAMP:20260422T071356
CREATED:20250110T125436Z
LAST-MODIFIED:20250113T124755Z
UID:10000178-1760832000-1760918399@juleica.ljrt.de
SUMMARY:Naturpädagogik kompakt
DESCRIPTION:Naturpädagogik kompakt (Fortbildung) \nTermin: 19.10.2025 \nSchulungsinhalte:\nIn diesem Seminar vermitteln wir das naturpädagogische Basiswissen\, das heißt die Zielsetzung und die Arbeitsweise für die Durchführung naturpädagogischer Veranstaltungen. Wir werden dabei eine Vielzahl von Naturerlebnis- und Naturerfahrungsspielen kennenlernen und gleich praktisch erproben. Dieser Kurs eignet sich für alle\, die Spaß daran haben\, naturpädagogische Nachmittage mit der Kindergruppe oder Schulklasse zu gestalten\, oder einfach\, mit den eigenen Kindern die Natur zu erleben und zu erforschen. \nZielgruppe:\nJugendliche und junge Erwachsene sowie Gruppenleiter*innen und alle\, die es werden wollen. \nLeistungen:\nVerpflegung\, Programm und Teilnahmebescheinigung. \nTeilnehmerbetrag:\n40 € \nVeranstaltungsort:\nNaturErlebnisHaus Jena\nwww.naju-thueringen.de/naturerlebnishaus \nSonstige Hinweise:\nDie An- und Abreise muss selbst organisiert und finanziert werden. \nVeranstalter:\nNaturschutzjugend Thüringen\nLeutra 15\n07751 Jena \nAnsprechpartner:\nStefan Bretz\nTelefon: 03641-215410\nAnmeldung:\nhttps://www.naju-thueringen.de/fortbildungen/ \nErste Hilfe Outdoor \nAchtsamkeit in der Natur
URL:https://juleica.ljrt.de/event/naturpaedagogik-kompakt/
LOCATION:NaturErlebnisHaus Leutratal\, Bucha\, 07751
CATEGORIES:Fortbildung
ATTACH;FMTTYPE=image/jpeg:https://juleica.ljrt.de/wp-content/uploads/2023/12/naturpaedagogik-kompakt-2.jpg
ORGANIZER;CN="Naturschutzjugend Th%C3%BCringen":MAILTO:info@naju-thueringen.de
END:VEVENT
BEGIN:VEVENT
DTSTART;VALUE=DATE:20251018
DTEND;VALUE=DATE:20251019
DTSTAMP:20260422T071356
CREATED:20250113T124543Z
LAST-MODIFIED:20250206T102730Z
UID:10000203-1760745600-1760831999@juleica.ljrt.de
SUMMARY:Achtsamkeit in und mit der Natur
DESCRIPTION:Achtsamkeit in und mit der Natur (Fortbildung) \nTermin: 18.10.2025 \nSchulungsinhalte:\nAchtsamkeit lässt sich nirgendwo leichter üben als in der Natur. Die Natur ist nämlich ganz besonders auf die Achtsamkeit der Menschen angewiesen. Man könnte auch sagen\, es ist die Kunst\, einfach mal da zu sein\, ohne etwas zu tun oder zu denken\, das ist die richtige Einstellung\, um die Natur auf sich wirken zu lassen. Welche Rolle Achtsamkeit im pädagogischen Kontext spielt und welche Übungen\, Aktionen und Methoden es für Kinder und Jugendliche gibt\, erfährst du in diesem Seminar. \nZielgruppe:\nJugendliche und junge Erwachsene sowie an Gruppenleiter*innen und alle\, die es werden wollen. \nLeistungen:\nVerpflegung\, Programm und Teilnahmebescheinigung. \nTeilnehmerbetrag:\n80 € \nVeranstaltungsort:\nNaturErlebnisHaus / Jena\nwww.naju-thueringen.de/naturerlebnishaus \nVeranstalter:\nNaturschutzjugend Thüringen\nLeutra 15\, 07751 Jena\nTelefon: 03641-215410 / Mail: stefan.bretz@naju-thueringen.de \nAnmeldung unter: naju-thueringen.de/veranstaltungen/ \nSonstige Hinweise:\nDie An- und Abreise muss selbst organisiert und finanziert werden. \nNaturpädagogik kompakt
URL:https://juleica.ljrt.de/event/achtsamkeit-in-und-mit-der-natur/
LOCATION:NaturErlebnisHaus Leutratal\, Bucha\, 07751
CATEGORIES:Fortbildung
ATTACH;FMTTYPE=image/jpeg:https://juleica.ljrt.de/wp-content/uploads/2025/01/achtsamkeit-in-der-natur.jpg
ORGANIZER;CN="Naturschutzjugend Th%C3%BCringen":MAILTO:info@naju-thueringen.de
END:VEVENT
BEGIN:VEVENT
DTSTART;VALUE=DATE:20250511
DTEND;VALUE=DATE:20250512
DTSTAMP:20260422T071356
CREATED:20241204T121019Z
LAST-MODIFIED:20241204T121517Z
UID:10000198-1746921600-1747007999@juleica.ljrt.de
SUMMARY:Seminar Bildung nachhaltige Entwicklung
DESCRIPTION:Seminar Bildung nachhaltige Entwicklung \nTermin: 11.05.2025 \nSchulungsinhalte:\nWir befassen uns damit\, was Nachhaltigkeit überhaupt ist und wie wir Kinder und Jugendliche dabei begleiten\, unsere Welt zukunftsfähig zu gestalten. Überraschende Blickwinkel werden dich dabei zum Staunen bringen. Im Seminar vermitteln wir Basiswissen zu BNE und erproben praktische Methoden\, die du in deinen eigenen Veranstaltungen nutzen kannst. Im Vordergrund steht\, wie du lebendige Lernsituationen schaffen kannst. \nZielgruppe:\nJugendliche und junge Erwachsene\, Gruppenleiter*innen und alle\, die es werden wollen. \nLeistungen:\nVerpflegung\, Programm und Teilnahmebescheinigung. \nAnmeldung\, weitere Informationen unter: naju-thueringen.de/veranstaltungen/ \nGruppenleiter Schulung Leutratal
URL:https://juleica.ljrt.de/event/seminar-bildung-nachhaltige-entwicklung/
LOCATION:NaturErlebnisHaus Leutratal\, Bucha\, 07751
CATEGORIES:Fortbildung,Verlängerungsausbildung
ATTACH;FMTTYPE=image/jpeg:https://juleica.ljrt.de/wp-content/uploads/2024/12/seminar-bildung-nachhaltige-entwicklung.jpg
ORGANIZER;CN="Naturschutzjugend Th%C3%BCringen":MAILTO:info@naju-thueringen.de
END:VEVENT
BEGIN:VEVENT
DTSTART;VALUE=DATE:20250307
DTEND;VALUE=DATE:20250310
DTSTAMP:20260422T071356
CREATED:20241202T114555Z
LAST-MODIFIED:20241204T121335Z
UID:10000197-1741305600-1741564799@juleica.ljrt.de
SUMMARY:GruppenleiterInnen Schulung Leutratal
DESCRIPTION:GruppenleiterInnen Schulung Leutratal \nTermin: 07.-09.3. / 21.-23.3.2025 \nSchulungsinhalte:\nAn zwei Wochenenden kannst du dich im NaturErlebnisHaus bei Jena und einem zusätzlichen 60- minütigen Onlinekurs weiterbilden. Hier erfährst du vieles über Gruppendynamik\, Leitungsstile\, Teamarbeit\, Feedback\, Rechtsfragen\, den Umgang mit Konflikten und Naturerleben. Viele Handlungsanregungen für die Praxis werden aufgezeigt und ausprobiert. \nZielgruppe:\nFür alle\, die als Teamer*in eine Veranstaltung oder als Leiter*in eine Gruppe mit Kindern oder Jugendlichen betreuen möchten\, bieten wir eine Schulung mit dem Schwerpunkt Naturpädagogik an. \nLeistungen:\nÜbernachtung\, Verpflegung\, Programm und JuLeiCa-Ordner. \nAnmeldung\, weitere Informationen unter:\nNaturschutzjugend Thüringen / Leutra 15\, 07751 Jena /\nTelefon: 03641-215410 / stefan.bretz@naju-thueringen.de\nnaju-thueringen.de/veranstaltungen \nSonstige Hinweise:\nDie An- und Abreise muss selbst organisiert und finanziert werden. \nJuleica Grundausbildung \nSeminar Bildung nachhaltige Entwicklung
URL:https://juleica.ljrt.de/event/gruppenleiterinnen-schulung-leutratal/
LOCATION:NaturErlebnisHaus Leutratal\, Bucha\, 07751
CATEGORIES:Grundausbildung
ATTACH;FMTTYPE=image/jpeg:https://juleica.ljrt.de/wp-content/uploads/2024/12/gruppenleiter-schulung-leutratal.jpg
ORGANIZER;CN="Naturschutzjugend Th%C3%BCringen":MAILTO:info@naju-thueringen.de
END:VEVENT
BEGIN:VEVENT
DTSTART;VALUE=DATE:20241012
DTEND;VALUE=DATE:20241013
DTSTAMP:20260422T071356
CREATED:20231214T114717Z
LAST-MODIFIED:20231214T115236Z
UID:10000179-1728691200-1728777599@juleica.ljrt.de
SUMMARY:Seminar Naturpädagogik kompakt
DESCRIPTION:  \nSeminar Naturpädagogik kompakt  \nIn dem Seminar Naturpädagogik vermitteln wir das Basiswissen\, das heißt die Zielsetzung und die Arbeitsweise für die Durchführung naturpädagogischer Veranstaltungen. Wir werden dabei eine Vielzahl von Naturerlebnis- und Naturerfahrungsspielen kennenlernen und gleich praktisch erproben. Dieser Kurs eignet sich für alle\, die Spaß daran haben\, naturpädagogische Nachmittage mit der Kindergruppe oder Schulklasse zu gestalten\, oder einfach\, mit den eigenen Kindern die Natur zu erleben und zu erforschen. \nZielgruppe:\nErwachsene und Jugendliche ab 16 Jahren \nKosten/ Teilnehmerbeitrag:\nBeitrag: Für Jugendleiter*innen kostenfrei* / 40 € (NABU-/NAJU-Mitglied 20 €) \nLeistungen:\nIm Beitrag sind die Kosten für Programm\, Verpflegung sowie Unfall- und Haftpflichtversicherung enthalten. \nHinweise/Bemerkungen:\n*Für Menschen\, die ehrenamtlich in der Jugendverbandsarbeit in Thüringen aktiv sind oder werden möchten ist die Teilnahme an unseren Juleica-Fortbildungen vorbehaltlich der Förderung durch das Thüringer Ministerium für Bildung\, Jugend und Sport kostenfrei. Die An- und Abreise muss selbst organisiert und finanziert werden. \nVeranstalter:\nNaturschutzjugend Thüringen\nLeutra 15\n07751 Jena \nAnsprechpartner:\nStefan Bretz\nTelefon: 03641-215410\nhttps://www.naju-thueringen.de/fortbildungen/ \nErste Hilfe Outdoor
URL:https://juleica.ljrt.de/event/seminar-naturpaedagogik-kompakt/
LOCATION:NaturErlebnisHaus Leutratal\, Bucha\, 07751
CATEGORIES:Fortbildung
ATTACH;FMTTYPE=image/jpeg:https://juleica.ljrt.de/wp-content/uploads/2023/12/seminar-naturpaedagogik.jpg
ORGANIZER;CN="Naturschutzjugend Th%C3%BCringen":MAILTO:info@naju-thueringen.de
END:VEVENT
END:VCALENDAR