BEGIN:VCALENDAR
VERSION:2.0
PRODID:-//Juleica Thüringen - ECPv6.15.17.1//NONSGML v1.0//EN
CALSCALE:GREGORIAN
METHOD:PUBLISH
X-ORIGINAL-URL:https://juleica.ljrt.de
X-WR-CALDESC:Veranstaltungen für Juleica Thüringen
REFRESH-INTERVAL;VALUE=DURATION:PT1H
X-Robots-Tag:noindex
X-PUBLISHED-TTL:PT1H
BEGIN:VTIMEZONE
TZID:Europe/Berlin
BEGIN:DAYLIGHT
TZOFFSETFROM:+0100
TZOFFSETTO:+0200
TZNAME:CEST
DTSTART:20220327T010000
END:DAYLIGHT
BEGIN:STANDARD
TZOFFSETFROM:+0200
TZOFFSETTO:+0100
TZNAME:CET
DTSTART:20221030T010000
END:STANDARD
BEGIN:DAYLIGHT
TZOFFSETFROM:+0100
TZOFFSETTO:+0200
TZNAME:CEST
DTSTART:20230326T010000
END:DAYLIGHT
BEGIN:STANDARD
TZOFFSETFROM:+0200
TZOFFSETTO:+0100
TZNAME:CET
DTSTART:20231029T010000
END:STANDARD
BEGIN:DAYLIGHT
TZOFFSETFROM:+0100
TZOFFSETTO:+0200
TZNAME:CEST
DTSTART:20240331T010000
END:DAYLIGHT
BEGIN:STANDARD
TZOFFSETFROM:+0200
TZOFFSETTO:+0100
TZNAME:CET
DTSTART:20241027T010000
END:STANDARD
END:VTIMEZONE
BEGIN:VEVENT
DTSTART;VALUE=DATE:20230615
DTEND;VALUE=DATE:20230617
DTSTAMP:20260426T003709
CREATED:20230526T110445Z
LAST-MODIFIED:20230530T085400Z
UID:10000172-1686787200-1686959999@juleica.ljrt.de
SUMMARY:Juleicaausbildung Unstrut Hainich Kreis
DESCRIPTION:Juleicaausbildung Unstrut Hainich Kreis \nZeitraum:  \n15./16.9.23 (mit Übernachtung)\n23.9.23\n21.10.23\n27./28.10.23 (mit Übernachtung) \nInhalt der Veranstaltung: (Aus- oder Weiterbildung): \n• u.a. Methoden in den Bereichen der Freizeit- und Gruppenarbeit\n• Kommunikation\, Pädagogik\, Konfliktbearbeitung\n• Rechte und Pflichten in Leitungsverantwortung für eine Jugendgruppe\n• Verhalten in besonderen Problemlagen und Notsituationen\n• Organisation von Jugendarbeit \nZielgruppe der Aus- und Fortbildung im Unstrut Hainich Kreis: \nInteressierte junge Menschen ab 16 Jahren \nKosten/Teilnehmerbeitrag: 0\,00 € \nLeistungen:\n• Unterkunft und Verpflegung\n• Materialsammlung \nHinweise/Bemerkungen:\nAnmeldeschluss: 30.06.2023 \nVeranstaltungsorte: \nJugendprojekt Boje \nJugendkirche Mühlhausen \nKontakt: \nJulia.stein@ekmd.de \n  \nJuleicaausbildung Meiningen
URL:https://juleica.ljrt.de/event/juleicaausbildung-unstrut-hainich-kreis/
LOCATION:Jugendkirche Mühlhausen\, August-Bebel-Str. 66\, Mühlhausen\, 99974
CATEGORIES:Fortbildung
ATTACH;FMTTYPE=image/jpeg:https://juleica.ljrt.de/wp-content/uploads/2023/05/juleicaausbildung-unstrut-hainichkreis.jpg
ORGANIZER;CN="eKuJA %E2%80%93 ev. Kinder- und Jugendarbeit des Ev. Kirchenkreises M%C3%BChlhausen":MAILTO:julia.stein@ekmd.de
END:VEVENT
END:VCALENDAR