BEGIN:VCALENDAR
VERSION:2.0
PRODID:-//Juleica Thüringen - ECPv6.15.17.1//NONSGML v1.0//EN
CALSCALE:GREGORIAN
METHOD:PUBLISH
X-WR-CALNAME:Juleica Thüringen
X-ORIGINAL-URL:https://juleica.ljrt.de
X-WR-CALDESC:Veranstaltungen für Juleica Thüringen
REFRESH-INTERVAL;VALUE=DURATION:PT1H
X-Robots-Tag:noindex
X-PUBLISHED-TTL:PT1H
BEGIN:VTIMEZONE
TZID:Europe/Berlin
BEGIN:DAYLIGHT
TZOFFSETFROM:+0100
TZOFFSETTO:+0200
TZNAME:CEST
DTSTART:20220327T010000
END:DAYLIGHT
BEGIN:STANDARD
TZOFFSETFROM:+0200
TZOFFSETTO:+0100
TZNAME:CET
DTSTART:20221030T010000
END:STANDARD
BEGIN:DAYLIGHT
TZOFFSETFROM:+0100
TZOFFSETTO:+0200
TZNAME:CEST
DTSTART:20230326T010000
END:DAYLIGHT
BEGIN:STANDARD
TZOFFSETFROM:+0200
TZOFFSETTO:+0100
TZNAME:CET
DTSTART:20231029T010000
END:STANDARD
BEGIN:DAYLIGHT
TZOFFSETFROM:+0100
TZOFFSETTO:+0200
TZNAME:CEST
DTSTART:20240331T010000
END:DAYLIGHT
BEGIN:STANDARD
TZOFFSETFROM:+0200
TZOFFSETTO:+0100
TZNAME:CET
DTSTART:20241027T010000
END:STANDARD
BEGIN:DAYLIGHT
TZOFFSETFROM:+0100
TZOFFSETTO:+0200
TZNAME:CEST
DTSTART:20250330T010000
END:DAYLIGHT
BEGIN:STANDARD
TZOFFSETFROM:+0200
TZOFFSETTO:+0100
TZNAME:CET
DTSTART:20251026T010000
END:STANDARD
END:VTIMEZONE
BEGIN:VEVENT
DTSTART;TZID=Europe/Berlin:20240322T160000
DTEND;TZID=Europe/Berlin:20240325T160000
DTSTAMP:20260425T225556
CREATED:20240125T122922Z
LAST-MODIFIED:20240220T122445Z
UID:10000184-1711123200-1711382400@juleica.ljrt.de
SUMMARY:JugendgruppenleiterInnen Kompaktkurs Ilmenau
DESCRIPTION:JugendgruppenleiterInnen Kompaktkurs Ilmenau \n22.03.2024 16:00 Uhr – 25.03.2024 14:00 Uhr \nSchulungsinhalte:\n• Rechtliche Hintergründe\n• Geeignetes Methodenrepertoire\n• Soziale\, pädagogische und psychologische Kenntnisse\n• Einschätzung der eigenen Leitungsrolle\n• Reagieren in Konfliktsituationen\n• Anregung der Lernvorgänge in Gruppen\n• Verbands spezifische und jugendpolitische Themen \nZielgruppe:\nAlle aktiven & zukünftigen Gruppenleiter*innen \nLeistungen:\nÜbernachtung\, Vollverpflegung\, Programm\, Ausstellungskosten Card \nTeilnehmerbetrag:\n0€\nDie Veranstaltung ist gefördert durch: Thüringer Ministerium für Bildung\, Jugend und Sport \nAnmeldung:\nJRK-Bildungsreferentin\nJulia Bartsch\nTel.: 0361 744399-61\nE-Mail: julia.bartsch@drk-thueringen.de \n  \nJuleicaausbildung Heilbad Heiligenstadt \nGruppenleiterInnen Grundausbildung Nordhausen \nJuleicaauffrischung Mühlhausen
URL:https://juleica.ljrt.de/event/jugendgruppenleiterinnen-kompaktkurs-ilmenau/
LOCATION:Jugendherberge Ilmenau\, Am Stollen 49\, Ilmenau \, 98693
CATEGORIES:Grundausbildung
ATTACH;FMTTYPE=image/jpeg:https://juleica.ljrt.de/wp-content/uploads/2024/01/jugendgruppenleiterinnen-kompaktkurs-ilmenau.jpg
ORGANIZER;CN="Jugendrotkreuz Th%C3%BCringen":MAILTO:fsj.jrk@lv-thueringen.drk.de
END:VEVENT
BEGIN:VEVENT
DTSTART;VALUE=DATE:20231006
DTEND;VALUE=DATE:20231010
DTSTAMP:20260425T225556
CREATED:20230102T130304Z
LAST-MODIFIED:20230406T113000Z
UID:10000153-1696550400-1696895999@juleica.ljrt.de
SUMMARY:GruppenleiterInnen Grundausbildung Herbst
DESCRIPTION:GruppenleiterInnen Grundausbildung Herbst \nDie Ausbildung vermittelt die Grundlagen für einen Einsatz als Jugendgruppenleiter*in gemäß der Thüringer Richtlinie zur Ausbildung von Jugendgruppenleiter*innen. \nThemenblock 1:  \nTheoretische und praktische Grundlagen in der pädagogischen Arbeit mit Kindern und Jugendlichen sowie in Gruppen \nThemenblock 2:  \nRechtlich relevante Grundlagen in der Jugendarbeit und Gefahrentatbestände des Kinder- und Jugendalters. \nThemenblock 3:  \nGrundlagen der Organisation und Finanzierung von Jugendgruppenarbeit. \nZielgruppe: \nAlle aktiven und zukünftigen Gruppenleiter*innen \nKosten: \n0 € \nLeistungen: \nUnterbringung in Mehrbettzimmern\, Vollverpflegung\, Seminarunterlagen. \nHinweise: \nAnmeldeschluss ist der 25.09.2023 \nBeide Module sind zum Erreichen der Juleica erforderlich. \nDie Teilnehmer*innen erhalten zwei Wochen vor der Veranstaltung eine Bestätigungsmail. \nVoraussetzungen: \nfür die Teilnahme an der Veranstaltung ist der Nachweis der Teilnahme an einem Erste-Hilfe-Kurs/ Lebensrettende Sofortmaßnahmen. Der Nachweis ist dem Veranstalter vorzulegen \nGruppenleiterInnen Grundausbildung Herbst\nAnmeldung \nAnsprechpartner: \nJulia Bartsch (JRK-Bildungsreferentin) 0361/74 43 99 61 \n  \nJuleica Schulung Finsterbergen \nJuleica Kompaktkurs \nJugendgruppenleiterInnen Grundausbildung \nGruppenleiterInnen Grundausbildung
URL:https://juleica.ljrt.de/event/gruppenleiterinnen-grundausbildung-herbst/
LOCATION:Jugendherberge Ilmenau\, Am Stollen 49\, Ilmenau \, 98693
CATEGORIES:Grundausbildung
ATTACH;FMTTYPE=image/jpeg:https://juleica.ljrt.de/wp-content/uploads/2023/01/gruppenleiterinnen-grundausbildung.jpg
ORGANIZER;CN="Jugendrotkreuz Th%C3%BCringen":MAILTO:fsj.jrk@lv-thueringen.drk.de
END:VEVENT
END:VCALENDAR