BEGIN:VCALENDAR
VERSION:2.0
PRODID:-//Juleica Thüringen - ECPv6.15.17.1//NONSGML v1.0//EN
CALSCALE:GREGORIAN
METHOD:PUBLISH
X-WR-CALNAME:Juleica Thüringen
X-ORIGINAL-URL:https://juleica.ljrt.de
X-WR-CALDESC:Veranstaltungen für Juleica Thüringen
REFRESH-INTERVAL;VALUE=DURATION:PT1H
X-Robots-Tag:noindex
X-PUBLISHED-TTL:PT1H
BEGIN:VTIMEZONE
TZID:Europe/Berlin
BEGIN:DAYLIGHT
TZOFFSETFROM:+0100
TZOFFSETTO:+0200
TZNAME:CEST
DTSTART:20240331T010000
END:DAYLIGHT
BEGIN:STANDARD
TZOFFSETFROM:+0200
TZOFFSETTO:+0100
TZNAME:CET
DTSTART:20241027T010000
END:STANDARD
BEGIN:DAYLIGHT
TZOFFSETFROM:+0100
TZOFFSETTO:+0200
TZNAME:CEST
DTSTART:20250330T010000
END:DAYLIGHT
BEGIN:STANDARD
TZOFFSETFROM:+0200
TZOFFSETTO:+0100
TZNAME:CET
DTSTART:20251026T010000
END:STANDARD
BEGIN:DAYLIGHT
TZOFFSETFROM:+0100
TZOFFSETTO:+0200
TZNAME:CEST
DTSTART:20260329T010000
END:DAYLIGHT
BEGIN:STANDARD
TZOFFSETFROM:+0200
TZOFFSETTO:+0100
TZNAME:CET
DTSTART:20261025T010000
END:STANDARD
BEGIN:DAYLIGHT
TZOFFSETFROM:+0100
TZOFFSETTO:+0200
TZNAME:CEST
DTSTART:20270328T010000
END:DAYLIGHT
BEGIN:STANDARD
TZOFFSETFROM:+0200
TZOFFSETTO:+0100
TZNAME:CET
DTSTART:20271031T010000
END:STANDARD
END:VTIMEZONE
BEGIN:VEVENT
DTSTART;TZID=Europe/Berlin:20260321T100000
DTEND;TZID=Europe/Berlin:20260321T180000
DTSTAMP:20260425T172858
CREATED:20260203T110500Z
LAST-MODIFIED:20260203T110703Z
UID:10000246-1774087200-1774116000@juleica.ljrt.de
SUMMARY:Kochen für Gruppen in Erfurt
DESCRIPTION:Kochen für Gruppen in Erfurt \nTermin: 21.03.2026; 10.00 bis 18.00 \nSchulungsinhalte:\nDer Freizeitensommer steht vor der Tür! Das bedeutet für Teamer*innen nicht nur viele Spiele\, Aktionen und Ausflüge mit Kindern und Jugendlichen\, sondern auch das gemeinsame Kochen für und mit den Teilnehmenden. Wie das gut gelingt\, Spaß macht und dass am Ende alle satt sind\, kannst du bei dieser Juleica-Verlängerung lernen. Gemeinsam erarbeiten wir Tricks und Strategien\, wie wir Gerichte zaubern\, die schnell und einfach zubereitet werden und möglichst vielen Menschen schmecken. Dabei wird’s ganz praktisch – beim gemeinsamen Kochen kannst du die neuen Skills gleich testen. Und . Guten Appetit! \nZielgruppe:\nJuleica-Inhaber*innen und Interessierte zwischen 16 und 26 Jahren \nLeistungen:\nvegetarische und vegane Verpflegung (was gekocht wurde\, wird auch zusammen gegessen) \nTeilnehmerbetrag:\nkostenfrei
URL:https://juleica.ljrt.de/event/kochen-fuer-gruppen-in-erfurt/
LOCATION:Jugendhaus Domizil\, Am alten Nordhäuser Bahnhof 14\, Erfurt\, 99085
CATEGORIES:Verlängerungsausbildung
ATTACH;FMTTYPE=image/jpeg:https://juleica.ljrt.de/wp-content/uploads/2026/02/kochen-fuer-gruppen.jpg
ORGANIZER;CN="Naturfreundejugend Th%C3%BCringen":MAILTO:info@naturfreundejugend-thueringen.de
END:VEVENT
BEGIN:VEVENT
DTSTART;TZID=Europe/Berlin:20251107T000000
DTEND;TZID=Europe/Berlin:20251108T000000
DTSTAMP:20260425T172858
CREATED:20251021T100540Z
LAST-MODIFIED:20251021T100540Z
UID:10000232-1762473600-1762560000@juleica.ljrt.de
SUMMARY:Umgang mit psychischen Krisen auf Freizeiten\, Seminaren und Co
DESCRIPTION:Umgang mit psychischen Krisen auf Freizeiten\, Seminaren und Co (Juleica-Verlängerung)\n—\nTermin: 07.11.2025 17.00 – 19.30 und 08.11. 10.00 – 16.00 \nSchulungsinhalte:\nOb Essstörungen\, Panikattacken oder selbstverletzendes Verhalten – immer wieder werden wir in der Jugendarbeit mit psychischen Krisen konfrontiert. In unserem Workshop wollen wir gemeinsame Strategien für den Umgang entwickeln. Am Freitagnachmittag erwartet uns ein spannender Input von Larissa. Sie ist in Psychologie studiert und hat jahrelange Erfahrung im Ehrenamt bei den Johannitern. Am Samstag wollen wir die erlernten Inhalte in unsere Praxis umsetzen. Gemeinsam entwickeln wir Strategien\, die euch bei Akutsituation in der Jugendarbeit helfen. Hierbei diskutieren wir auch Fallbeispiele und besprechen eure Fragen. Zudem wollen wir Methoden erarbeiten\, die euch im Ehrenamt helfen\, Grenzen zu setzen und euch zu stärken. \nZielgruppe:\nWer?: Ehrenamtliche aus der Jugendarbeit\, Juleica-Inhaber*innen \nTeilnehmerbetrag: 0\,00 \nAnmeldung unter:\nphiline@naturfreundejugend-erfurt.de / 0361 5623356
URL:https://juleica.ljrt.de/event/umgang-mit-psychischen-krisen-auf-freizeiten-seminaren-und-co/
LOCATION:Jugendhaus Domizil\, Am alten Nordhäuser Bahnhof 14\, Erfurt\, 99085
CATEGORIES:Verlängerungsausbildung
ATTACH;FMTTYPE=image/jpeg:https://juleica.ljrt.de/wp-content/uploads/2025/10/juleica-verlaengerung-erfurt.jpg
ORGANIZER;CN="Naturfreundejugend Th%C3%BCringen":MAILTO:info@naturfreundejugend-thueringen.de
END:VEVENT
BEGIN:VEVENT
DTSTART;VALUE=DATE:20250614
DTEND;VALUE=DATE:20250615
DTSTAMP:20260425T172858
CREATED:20250206T102347Z
LAST-MODIFIED:20250206T104910Z
UID:10000210-1749859200-1749945599@juleica.ljrt.de
SUMMARY:Fit für den Sommer - Fit fürs Teamen
DESCRIPTION:Fit für den Sommer – Fit fürs Teamen (Juleica-Verlängerung) \nTermin: 14.06. \nSchulungsinhalte:\nAlle Jahre wieder…\n… kommen die Sommerferien! Eine erlebnisreiche Zeit voller Ausflüge\, Action und Unternehmungen steht vor der Tür und wir wollen dich als Teamer*in darauf vorbereiten! Bei unserem Angebot „Fit für den Sommer“ lernst du die anderen Teamer*innen kennen und bekommst gebündelt die wichtigsten Infos für deine Sommerfreizeit. Dabei ist es egal\, ob du schon lange bei uns teamst als oder neu dabei bist – alle sind herzlich eingeladen. Du kannst alle Fragen stellen\, die dir unter den Nägeln brennen und dich mit den anderen Teamer*innen über bisherige Erfahrungen und Ideen für das Teamen austauschen. \nZielgruppe:\nTeamer*innenn und Juleica-Inhaber*innen \nLeistungen: Verpflegung \nTeilnehmerbetrag: kostenfrei \nVeranstalter:\nNaturfreundejugend Thüringen\nJohannesstr. 127\n99083 Erfurt\ninfo@naturfreundejugend-thueringen.de / 03615623356 Erfurt \nSonstige Hinweise:\nVerlängerung der Juleica möglich \nSchulung in Jena \nSchulung im Herbst
URL:https://juleica.ljrt.de/event/fit-fuer-den-sommer-fit-fuers-teamen/
LOCATION:Jugendhaus Domizil\, Am alten Nordhäuser Bahnhof 14\, Erfurt\, 99085
CATEGORIES:Verlängerungsausbildung
ATTACH;FMTTYPE=image/jpeg:https://juleica.ljrt.de/wp-content/uploads/2025/02/Fit-fuer-den-sommer.jpg
ORGANIZER;CN="Naturfreundejugend Th%C3%BCringen":MAILTO:info@naturfreundejugend-thueringen.de
END:VEVENT
END:VCALENDAR