BEGIN:VCALENDAR
VERSION:2.0
PRODID:-//Juleica Thüringen - ECPv6.15.17.1//NONSGML v1.0//EN
CALSCALE:GREGORIAN
METHOD:PUBLISH
X-WR-CALNAME:Juleica Thüringen
X-ORIGINAL-URL:https://juleica.ljrt.de
X-WR-CALDESC:Veranstaltungen für Juleica Thüringen
REFRESH-INTERVAL;VALUE=DURATION:PT1H
X-Robots-Tag:noindex
X-PUBLISHED-TTL:PT1H
BEGIN:VTIMEZONE
TZID:Europe/Berlin
BEGIN:DAYLIGHT
TZOFFSETFROM:+0100
TZOFFSETTO:+0200
TZNAME:CEST
DTSTART:20210328T010000
END:DAYLIGHT
BEGIN:STANDARD
TZOFFSETFROM:+0200
TZOFFSETTO:+0100
TZNAME:CET
DTSTART:20211031T010000
END:STANDARD
BEGIN:DAYLIGHT
TZOFFSETFROM:+0100
TZOFFSETTO:+0200
TZNAME:CEST
DTSTART:20220327T010000
END:DAYLIGHT
BEGIN:STANDARD
TZOFFSETFROM:+0200
TZOFFSETTO:+0100
TZNAME:CET
DTSTART:20221030T010000
END:STANDARD
BEGIN:DAYLIGHT
TZOFFSETFROM:+0100
TZOFFSETTO:+0200
TZNAME:CEST
DTSTART:20230326T010000
END:DAYLIGHT
BEGIN:STANDARD
TZOFFSETFROM:+0200
TZOFFSETTO:+0100
TZNAME:CET
DTSTART:20231029T010000
END:STANDARD
BEGIN:DAYLIGHT
TZOFFSETFROM:+0100
TZOFFSETTO:+0200
TZNAME:CEST
DTSTART:20240331T010000
END:DAYLIGHT
BEGIN:STANDARD
TZOFFSETFROM:+0200
TZOFFSETTO:+0100
TZNAME:CET
DTSTART:20241027T010000
END:STANDARD
BEGIN:DAYLIGHT
TZOFFSETFROM:+0100
TZOFFSETTO:+0200
TZNAME:CEST
DTSTART:20250330T010000
END:DAYLIGHT
BEGIN:STANDARD
TZOFFSETFROM:+0200
TZOFFSETTO:+0100
TZNAME:CET
DTSTART:20251026T010000
END:STANDARD
BEGIN:DAYLIGHT
TZOFFSETFROM:+0100
TZOFFSETTO:+0200
TZNAME:CEST
DTSTART:20260329T010000
END:DAYLIGHT
BEGIN:STANDARD
TZOFFSETFROM:+0200
TZOFFSETTO:+0100
TZNAME:CET
DTSTART:20261025T010000
END:STANDARD
BEGIN:DAYLIGHT
TZOFFSETFROM:+0100
TZOFFSETTO:+0200
TZNAME:CEST
DTSTART:20270328T010000
END:DAYLIGHT
BEGIN:STANDARD
TZOFFSETFROM:+0200
TZOFFSETTO:+0100
TZNAME:CET
DTSTART:20271031T010000
END:STANDARD
END:VTIMEZONE
BEGIN:VEVENT
DTSTART;TZID=Europe/Berlin:20260206T000000
DTEND;TZID=Europe/Berlin:20260208T000000
DTSTAMP:20260425T200128
CREATED:20260112T145734Z
LAST-MODIFIED:20260123T130100Z
UID:10000237-1770336000-1770508800@juleica.ljrt.de
SUMMARY:Juleica Ausbildung Erfurt und Heiligenstadt
DESCRIPTION:Juleica Ausbildung Erfurt und Heiligenstadt \nTermin: 06.02.-08.02.2026 und 27.2.-1.3.2026 \nSchulungsinhalte:\nEntwicklungspsychologie\, Methodik\, Didaktik\, rechtliche Grundlagen*\, Demokratiebildung\, Spielepädagogik\, Kommunikation&Konflikte\, Gruppen und Leitungsstile\, Veranstaltungsorganisation\, Gestaltung von Impulszeiten und praktisches Anleiten von Spielen und eigenständige Gestaltung von Impulszeiten. \n*Da wir eine Präventionsschulung an die Juleica-Vergabe knüpfen\, werden die Punkte Sexualstrafrecht und Kindeswohl(gefährdung) in unserer Juleica-Schulung zwar angeschnitten\, aber nicht tiefergehend behandelt. Die Präventionsschulung ist für die Juleica-Teilnehmenden kostenfrei und eine Übersicht zu den Terminen gibt es hier: https://www.bistum-erfurt.de/bistum-erfurt/rat-hilfe/praevention-sexualisierter-gewalt/ \nZielgruppe:\nJugendliche ab 16 Jahren sowie interessierte Erwachsene\, die Gruppen leiten wollen \nLeistungen:\nÜbernachtungskosten\, Vollverpflegung \nTeilnehmerbetrag:\nkeine\, An- und Abfahrtskosten müssen eigenständig getragen werden \nVeranstaltungsort:\nDas erste Wochenende findet im Jugendhaus St. Sebastian (SEB) in Erfurt und das zweite Wochenende findet im Bildungshaus Marcel Callo (MCH) in Heiligenstadt statt. \nSonstige Hinweise:\nWir knüpfen an unsere Juleica-Schulung eine Präventionsschulung des Bistums Erfurt an. In dieser Schulung werden Zahlen rund um sexuellen Missbrauch\, Kindeswohlgefährdung\, Täter:innenstrategien\, Betroffenenerleben und Handlungsleitfäden für Gruppenleiter:innen behandelt. Für Gruppenleiter:innen\, die in der katholischen Kirche aktiv sind\, ist die Schulung verpflichtend. Die Teilnahme ist kostenlos.
URL:https://juleica.ljrt.de/event/juleica-ausbildung-erfurt-und-heiligenstadt/
LOCATION:Jugendbildungshaus St.Sebastian\, Am Holzberg 7\, Erfurt\, 99094
CATEGORIES:Grundausbildung
ATTACH;FMTTYPE=image/jpeg:https://juleica.ljrt.de/wp-content/uploads/2026/01/juleica-ausbildung-erfurt.jpg
ORGANIZER;CN="BDKJ Th%C3%BCringen":MAILTO:judith@bdkj-thr.de
END:VEVENT
BEGIN:VEVENT
DTSTART;VALUE=DATE:20240202
DTEND;VALUE=DATE:20240205
DTSTAMP:20260425T200128
CREATED:20231222T155934Z
LAST-MODIFIED:20231222T204120Z
UID:10000181-1706832000-1707091199@juleica.ljrt.de
SUMMARY:Juleicaausbildung Erfurt
DESCRIPTION:Juleicaausbildung Erfurt an zwei Wochenenden \nZielgruppe:\nJugendliche und junge Erwachsene ab 15 Jahren \nKosten: 0\,- \nLeistungen:\n Ausbildung\, Übernachtung und Verpflegung \nHinweise:\n Für den Erhalt der Juleica ist der Besuch des zweiten Kurswochenendes vom 15.-17.03. in Heiligenstadt sowie eine Erste-Hilfe-Schulung und der Besuch einer Schulung zur Prävention sexualisierter Gewalt nötig. \nAnsprechpartnerin:\nJudith Schillert\nTelefon: 0361 6572 342\nWeb: jung-im-bistum-erfurt.de \nJuleicaausbildung Heilbad Heiligenstadt
URL:https://juleica.ljrt.de/event/juleicaausbildung-erfurt/
LOCATION:Jugendbildungshaus St.Sebastian\, Am Holzberg 7\, Erfurt\, 99094
CATEGORIES:Grundausbildung
ATTACH;FMTTYPE=image/jpeg:https://juleica.ljrt.de/wp-content/uploads/2023/12/juleicaausbildung-erfurt.jpg
ORGANIZER;CN="BDKJ Th%C3%BCringen":MAILTO:judith@bdkj-thr.de
END:VEVENT
BEGIN:VEVENT
DTSTART;VALUE=DATE:20230317
DTEND;VALUE=DATE:20230320
DTSTAMP:20260425T200128
CREATED:20230102T123518Z
LAST-MODIFIED:20230119T120730Z
UID:10000152-1679011200-1679270399@juleica.ljrt.de
SUMMARY:GruppenleiterInnen Grundausbildung
DESCRIPTION:GruppenleiterInnen Grundausbildung \nDie Ausbildung vermittelt die Grundlagen für einen Einsatz als Jugendgruppenleiter*in gemäß der Thüringer Richtlinie zur Ausbildung von Jugendgruppenleiter*innen. \nThemenblock 1:  \nTheoretische und praktische Grundlagen in der pädagogischen Arbeit mit Kindern und Jugendlichen sowie in Gruppen \nThemenblock 2:  \nRechtlich relevante Grundlagen in der Jugendarbeit und Gefahrentatbestände des Kinder- und Jugendalters. \nThemenblock 3:  \nGrundlagen der Organisation und Finanzierung von Jugendgruppenarbeit. \nZielgruppe: \nAlle aktiven und zukünftigen Gruppenleiter*innen \nKosten: \nDer Teilnehmendenbeitrag beträgt 40€. Die Kosten für die Ausstellung der Jugendleiter*innen-Card betragen zusätzlich 4\,50€ \nLeistungen: \nUnterbringung in Mehrbettzimmern\, Vollverpflegung\, Seminarunterlagen. \nHinweise: \nAnmeldeschluss ist der 06.03.2023 \nBeide Module sind zum Erreichen der Juleica erforderlich. \nDie Teilnehmer*innen erhalten zwei Wochen vor der Veranstaltung eine Bestätigungsmail. \nVoraussetzungen: \nfür die Teilnahme an der Veranstaltung ist der Nachweis der Teilnahme an einem Erste-Hilfe-Kurs/ Lebensrettende Sofortmaßnahmen. Der Nachweis ist dem Veranstalter vorzulegen \nGruppenleiterInnen Grundausbildung\nTeil I: 17.03. – 19.03.2023\nJugendhaus St.Sebastian\nAm Holzberg\n99094 Erfurt \nTeil II: 21.04.- 23.04.2023\nJugendherberge Ilmenau\nAm Stollen 49\n98693 Ilmenau \nAnmeldung \nAnsprechpartner: \nJulia Bartsch (JRK-Bildungsreferentin) 0361/74 43 99 61 \n  \nJuleica Schulung Finsterbergen \nGruppenleiterInnen Grundausbildung im Herbst \nJugendgruppenleiterInnen Grundausbildung \n 
URL:https://juleica.ljrt.de/event/gruppenleiterinnen-grundausbildung/
LOCATION:Jugendbildungshaus St.Sebastian\, Am Holzberg 7\, Erfurt\, 99094
CATEGORIES:Grundausbildung
ATTACH;FMTTYPE=image/jpeg:https://juleica.ljrt.de/wp-content/uploads/2023/01/gruppenleiterinnen-grundausbildung.jpg
ORGANIZER;CN="Jugendrotkreuz Th%C3%BCringen":MAILTO:fsj.jrk@lv-thueringen.drk.de
END:VEVENT
BEGIN:VEVENT
DTSTART;VALUE=DATE:20220506
DTEND;VALUE=DATE:20220509
DTSTAMP:20260425T200128
CREATED:20211130T120000Z
LAST-MODIFIED:20220120T132526Z
UID:10000125-1651795200-1652054399@juleica.ljrt.de
SUMMARY:JugendleiterInnen Ausbildung Erfurt
DESCRIPTION:JugendleiterInnen Ausbildung Erfurt Teil 2 \nist ein Angebot für Jugendliche ab 15 Jahren und junge Erwachsene\, die ehrenamtlich in der Kinder- und Jugendarbeit ihres Verbandes\, Dekanats\, ihrer Pfarrei oder als TeamerIn auf Fahrten oder Kursen mitarbeiten wollen. Hier lernt ihr die Grundlagen für Gruppenleitung und praktisches Arbeiten mit Gruppen. \nInhalte sind neben Entwicklungspsychologie\, Gruppendynamik\, Spielepädagogik und rechtlichen Fragen auch die Gestaltung von Gruppenstunden und Gebetszeiten sowie viele weitere Themen in Theorie und Praxis. \nHier bekommt ihr die Möglichkeit\, euch in einer Gruppe mit anderen auszutauschen und das praktische Anleiten verschiedener Methoden einzuüben. \nFür den Erhalt der bundesweit gültigen JuLeiCa ist die Teilnahme an beiden Kurswochenenden sowie ein gültiger Erste Hilfe-Nachweis nötig. Für ehrenamtlich Tätige in unserem Bistum ist außerdem der Besuch einer Präventionsschulung nötig. \n. \nJugendleiterInnen Ausbildung Erfurt:\nKosten: 16 EUR \nVerantwortlich: Judith Scholz\, Tel.: 0361 6572342 \nAnmeldung \nTeil 1 findet im Januar 2022.
URL:https://juleica.ljrt.de/event/jugendleiterinnen-ausbildung-erfurt/
LOCATION:Jugendbildungshaus St.Sebastian\, Am Holzberg 7\, Erfurt\, 99094
CATEGORIES:Grundausbildung
ATTACH;FMTTYPE=image/jpeg:https://juleica.ljrt.de/wp-content/uploads/2021/11/JugendleiterInnen-Ausbildung-Erfurt-2.jpg
ORGANIZER;CN="BDKJ Th%C3%BCringen":MAILTO:judith@bdkj-thr.de
END:VEVENT
END:VCALENDAR