BEGIN:VCALENDAR
VERSION:2.0
PRODID:-//Juleica Thüringen - ECPv6.15.17.1//NONSGML v1.0//EN
CALSCALE:GREGORIAN
METHOD:PUBLISH
X-WR-CALNAME:Juleica Thüringen
X-ORIGINAL-URL:https://juleica.ljrt.de
X-WR-CALDESC:Veranstaltungen für Juleica Thüringen
REFRESH-INTERVAL;VALUE=DURATION:PT1H
X-Robots-Tag:noindex
X-PUBLISHED-TTL:PT1H
BEGIN:VTIMEZONE
TZID:Europe/Berlin
BEGIN:DAYLIGHT
TZOFFSETFROM:+0100
TZOFFSETTO:+0200
TZNAME:CEST
DTSTART:20220327T010000
END:DAYLIGHT
BEGIN:STANDARD
TZOFFSETFROM:+0200
TZOFFSETTO:+0100
TZNAME:CET
DTSTART:20221030T010000
END:STANDARD
BEGIN:DAYLIGHT
TZOFFSETFROM:+0100
TZOFFSETTO:+0200
TZNAME:CEST
DTSTART:20230326T010000
END:DAYLIGHT
BEGIN:STANDARD
TZOFFSETFROM:+0200
TZOFFSETTO:+0100
TZNAME:CET
DTSTART:20231029T010000
END:STANDARD
BEGIN:DAYLIGHT
TZOFFSETFROM:+0100
TZOFFSETTO:+0200
TZNAME:CEST
DTSTART:20240331T010000
END:DAYLIGHT
BEGIN:STANDARD
TZOFFSETFROM:+0200
TZOFFSETTO:+0100
TZNAME:CET
DTSTART:20241027T010000
END:STANDARD
END:VTIMEZONE
BEGIN:VEVENT
DTSTART;VALUE=DATE:20230825
DTEND;VALUE=DATE:20230828
DTSTAMP:20260426T003322
CREATED:20230406T111312Z
LAST-MODIFIED:20230720T102643Z
UID:10000166-1692921600-1693180799@juleica.ljrt.de
SUMMARY:Ausbildung Jugendgruppenleiter
DESCRIPTION:Ausbildung Jugendgruppenleiter in Meiningen \nZeitraum: \n25.8. – 27.8.2023\,\n08.09. – 10.9.2023\nein Projekttag im Oktober \nZielgruppe: 19 – 99 Jahre \nKosten/ Teilnehmerbeitrag: 0\,00 € \nLeistungen: Gruppenräume\, Verpflegung\, Material und gute Referenten \nVeranstalter: \nOffene Arbeit Meiningen\ninfo@oa-mgn.de \nJuleica Schulung Jena \nSpurensuche am Grünen Band
URL:https://juleica.ljrt.de/event/ausbildung-jugendgruppenleiter/
LOCATION:Gemeindehaus Meiningen\, Am Mittleren Rasen 6\, Meiningen\, 98617
CATEGORIES:Grundausbildung
ATTACH;FMTTYPE=image/jpeg:https://juleica.ljrt.de/wp-content/uploads/2023/04/ausbildung-jugendgruppenleiter.jpg
END:VEVENT
END:VCALENDAR