BEGIN:VCALENDAR
VERSION:2.0
PRODID:-//Juleica Thüringen - ECPv6.15.17.1//NONSGML v1.0//EN
CALSCALE:GREGORIAN
METHOD:PUBLISH
X-WR-CALNAME:Juleica Thüringen
X-ORIGINAL-URL:https://juleica.ljrt.de
X-WR-CALDESC:Veranstaltungen für Juleica Thüringen
REFRESH-INTERVAL;VALUE=DURATION:PT1H
X-Robots-Tag:noindex
X-PUBLISHED-TTL:PT1H
BEGIN:VTIMEZONE
TZID:Europe/Berlin
BEGIN:DAYLIGHT
TZOFFSETFROM:+0100
TZOFFSETTO:+0200
TZNAME:CEST
DTSTART:20250330T010000
END:DAYLIGHT
BEGIN:STANDARD
TZOFFSETFROM:+0200
TZOFFSETTO:+0100
TZNAME:CET
DTSTART:20251026T010000
END:STANDARD
BEGIN:DAYLIGHT
TZOFFSETFROM:+0100
TZOFFSETTO:+0200
TZNAME:CEST
DTSTART:20260329T010000
END:DAYLIGHT
BEGIN:STANDARD
TZOFFSETFROM:+0200
TZOFFSETTO:+0100
TZNAME:CET
DTSTART:20261025T010000
END:STANDARD
BEGIN:DAYLIGHT
TZOFFSETFROM:+0100
TZOFFSETTO:+0200
TZNAME:CEST
DTSTART:20270328T010000
END:DAYLIGHT
BEGIN:STANDARD
TZOFFSETFROM:+0200
TZOFFSETTO:+0100
TZNAME:CET
DTSTART:20271031T010000
END:STANDARD
END:VTIMEZONE
BEGIN:VEVENT
DTSTART;TZID=Europe/Berlin:20261120T080000
DTEND;TZID=Europe/Berlin:20261122T170000
DTSTAMP:20260425T145349
CREATED:20260202T131442Z
LAST-MODIFIED:20260202T131442Z
UID:10000245-1795161600-1795366800@juleica.ljrt.de
SUMMARY:Ausbildung zum Jugendleiter in Finsterbergen
DESCRIPTION:Ausbildung zum Jugendleiter in Finsterbergen \nTermin: 20. – 22.11.26 und 27.11. – 29.11.26 \nSchulungsinhalte:\n-Jugendleitercard\, THSJ\, Trägerlandschaft\nund Jugendhilfe in Thüringen\, Finanzierung und Förderung\, KJHG\n-Leitung von Gruppen\n-Lebenswelt und -wirklichkeit\n-Entwicklungspsychologie\n-Wertevermittlung\n-Partizipation\n-Konflikte\, Kommunikation\, Interaktion in Gruppen\n-Planung\, Organisation\, Durchführung und Nachbereitung von\nVeranstaltungen\n-Extremismus und Demokratiegefährdung\n-Sexualisierte Gewalt und Sexualstrafrecht\, Kindeswohlgefährdung\n(Erkennbarkeit und Handlungsmöglichkeiten)\, Jugendschutzgesetz\n-Methoden Erlebnispädagogisches Angebot\n-Methodik und Didaktik\n-Veranstaltungsplanung\n-Suchtprävention\n-Rechtliche Grundlagen\n-Reflexions- und Auswertungsmöglichkeiten \nZielgruppe:\nInteressierte Jugendliche und Erwachsene ab 16 Jahre \nLeistungen:\nÜbernachtung\, Vollverpflegung\, Programm\, Ausstellung Card \nTeilnehmerbetrag:\n0\,00 \nSonstige Hinweise:\nAnmeldung: https://www.waldhof-finsterbergen.de/bildung/kurse-qualifizierungen/
URL:https://juleica.ljrt.de/event/ausbildung-zum-jugendleiter-in-finsterbergen/
LOCATION:Waldhof Finsterbergen\, Spießbergstraße 27\, Friedrichroda\, 99894
CATEGORIES:Grundausbildung
ATTACH;FMTTYPE=image/jpeg:https://juleica.ljrt.de/wp-content/uploads/2025/02/juleica-ausbildung-in-finsterbergen.jpg
ORGANIZER;CN="Th%C3%BCringer Sportjugend im Landessportbund Th%C3%BCringen e.V.":MAILTO:m.koenig@thueringer-sportjugend.de
END:VEVENT
END:VCALENDAR