BEGIN:VCALENDAR
VERSION:2.0
PRODID:-//Juleica Thüringen - ECPv6.15.17.1//NONSGML v1.0//EN
CALSCALE:GREGORIAN
METHOD:PUBLISH
X-ORIGINAL-URL:https://juleica.ljrt.de
X-WR-CALDESC:Veranstaltungen für Juleica Thüringen
REFRESH-INTERVAL;VALUE=DURATION:PT1H
X-Robots-Tag:noindex
X-PUBLISHED-TTL:PT1H
BEGIN:VTIMEZONE
TZID:Europe/Berlin
BEGIN:DAYLIGHT
TZOFFSETFROM:+0100
TZOFFSETTO:+0200
TZNAME:CEST
DTSTART:20230326T010000
END:DAYLIGHT
BEGIN:STANDARD
TZOFFSETFROM:+0200
TZOFFSETTO:+0100
TZNAME:CET
DTSTART:20231029T010000
END:STANDARD
BEGIN:DAYLIGHT
TZOFFSETFROM:+0100
TZOFFSETTO:+0200
TZNAME:CEST
DTSTART:20240331T010000
END:DAYLIGHT
BEGIN:STANDARD
TZOFFSETFROM:+0200
TZOFFSETTO:+0100
TZNAME:CET
DTSTART:20241027T010000
END:STANDARD
BEGIN:DAYLIGHT
TZOFFSETFROM:+0100
TZOFFSETTO:+0200
TZNAME:CEST
DTSTART:20250330T010000
END:DAYLIGHT
BEGIN:STANDARD
TZOFFSETFROM:+0200
TZOFFSETTO:+0100
TZNAME:CET
DTSTART:20251026T010000
END:STANDARD
BEGIN:DAYLIGHT
TZOFFSETFROM:+0100
TZOFFSETTO:+0200
TZNAME:CEST
DTSTART:20260329T010000
END:DAYLIGHT
BEGIN:STANDARD
TZOFFSETFROM:+0200
TZOFFSETTO:+0100
TZNAME:CET
DTSTART:20261025T010000
END:STANDARD
END:VTIMEZONE
BEGIN:VEVENT
DTSTART;VALUE=DATE:20251121
DTEND;VALUE=DATE:20251124
DTSTAMP:20260425T161524
CREATED:20250206T132110Z
LAST-MODIFIED:20250213T143131Z
UID:10000212-1763683200-1763942399@juleica.ljrt.de
SUMMARY:JuLeiCa Ausbildung in Finsterbergen
DESCRIPTION:JuLeiCa Ausbildung in Finsterbergen \nTermin: 21. – 23.11.25 und 28.11. – 30.11.25 \nSchulungsinhalte:\n– vollumfängliche Grundausbildung nach den Richtlinien \nZielgruppe:\nInteressierte Jugendliche und Erwachsene ab 16 Jahre \nLeistungen:\nÜbernachtung\, Vollverpflegung\, Programm\, Ausstellung Card \nTeilnehmerbetrag: 0\,00 \nVeranstalter:\nTHÜRINGER SPORTJUGEND\nHaus des Thüringer Sports\nWerner-Seelenbinder-Str. 1\n99096 Erfurt\nm.koenig@thueringer-sportjugend.de \n  \nJuleica Schulung Gotha
URL:https://juleica.ljrt.de/event/juleica-ausbildung-in-finsterbergen/
LOCATION:Waldhof Finsterbergen\, Spießbergstraße 27\, Friedrichroda\, 99894
CATEGORIES:Grundausbildung
ATTACH;FMTTYPE=image/jpeg:https://juleica.ljrt.de/wp-content/uploads/2025/02/juleica-ausbildung-in-finsterbergen.jpg
ORGANIZER;CN="Th%C3%BCringer Sportjugend im Landessportbund Th%C3%BCringen e.V.":MAILTO:m.koenig@thueringer-sportjugend.de
END:VEVENT
BEGIN:VEVENT
DTSTART;VALUE=DATE:20241115
DTEND;VALUE=DATE:20241118
DTSTAMP:20260425T161525
CREATED:20240208T125319Z
LAST-MODIFIED:20240220T130728Z
UID:10000187-1731628800-1731887999@juleica.ljrt.de
SUMMARY:Jugendleiterausbildung Finsterbergen
DESCRIPTION:Jugendleiterausbildung Finsterbergen \nTermin: 15. – 17.11.24 und 29.11. – 01.12.24 \nSchulungsinhalte:\nvollumfängliche Grundausbildung nach den Richtlinien \nZielgruppe:\nInteressierte Jugendliche und Erwachsene ab 16 Jahren \nLeistungen:\nÜbernachtung\, Verpflegung\, Programm\, Kosten der Karte \nTeilnehmerbetrag:\n0\,00 \nVeranstalter:\nTHÜRINGER SPORTJUGEND\nHaus des Thüringer Sports\nWerner-Seelenbinder-Str. 1\n99096 Erfurt\nAnsprechpartner: m.koenig@thueringer-sportjugend.de \n  \nJuleicaausbildung Heilbad Heiligenstadt \nJuleicaausbildung Braunsdorf
URL:https://juleica.ljrt.de/event/jugendleiterausbildung-finsterbergen/
LOCATION:Waldhof Finsterbergen\, Spießbergstraße 27\, Friedrichroda\, 99894
CATEGORIES:Grundausbildung
ATTACH;FMTTYPE=image/jpeg:https://juleica.ljrt.de/wp-content/uploads/2024/02/jugendleiterausbildung-finsterbergen.jpg
ORGANIZER;CN="Th%C3%BCringer Sportjugend im Landessportbund Th%C3%BCringen e.V.":MAILTO:m.koenig@thueringer-sportjugend.de
END:VEVENT
END:VCALENDAR