BEGIN:VCALENDAR
VERSION:2.0
PRODID:-//Juleica Thüringen - ECPv6.15.17.1//NONSGML v1.0//EN
CALSCALE:GREGORIAN
METHOD:PUBLISH
X-WR-CALNAME:Juleica Thüringen
X-ORIGINAL-URL:https://juleica.ljrt.de
X-WR-CALDESC:Veranstaltungen für Juleica Thüringen
REFRESH-INTERVAL;VALUE=DURATION:PT1H
X-Robots-Tag:noindex
X-PUBLISHED-TTL:PT1H
BEGIN:VTIMEZONE
TZID:Europe/Berlin
BEGIN:DAYLIGHT
TZOFFSETFROM:+0100
TZOFFSETTO:+0200
TZNAME:CEST
DTSTART:20250330T010000
END:DAYLIGHT
BEGIN:STANDARD
TZOFFSETFROM:+0200
TZOFFSETTO:+0100
TZNAME:CET
DTSTART:20251026T010000
END:STANDARD
BEGIN:DAYLIGHT
TZOFFSETFROM:+0100
TZOFFSETTO:+0200
TZNAME:CEST
DTSTART:20260329T010000
END:DAYLIGHT
BEGIN:STANDARD
TZOFFSETFROM:+0200
TZOFFSETTO:+0100
TZNAME:CET
DTSTART:20261025T010000
END:STANDARD
BEGIN:DAYLIGHT
TZOFFSETFROM:+0100
TZOFFSETTO:+0200
TZNAME:CEST
DTSTART:20270328T010000
END:DAYLIGHT
BEGIN:STANDARD
TZOFFSETFROM:+0200
TZOFFSETTO:+0100
TZNAME:CET
DTSTART:20271031T010000
END:STANDARD
END:VTIMEZONE
BEGIN:VEVENT
DTSTART;VALUE=DATE:20260620
DTEND;VALUE=DATE:20260621
DTSTAMP:20260425T161937
CREATED:20260123T121227Z
LAST-MODIFIED:20260123T125923Z
UID:10000242-1781913600-1781999999@juleica.ljrt.de
SUMMARY:TeamerInnen-Qualifizierung: Fit für den Sommer-Fit fürs Teamen
DESCRIPTION:TeamerInnen-Qualifizierung: Fit für den Sommer-Fit fürs Teamen \nTermin: 20.06.2026\, 10.00 bis 18.00 \nSchulungsinhalte:\nEine erlebnisreiche Zeit voller Ausflüge\, Action und Unternehmungen steht in den nächsten Wochen vor der Tür und wir wollen dich als Teamer*in darauf vorbereiten! Bei unserem Angebot „Fit für den Sommer“ lernst du die anderen Teamer*innen kennen und bekommst gebündelt die wichtigsten Infos für deine Sommerfreizeit. Dabei ist es egal\, ob du schon lange bei uns teamst als oder neu dabei bist – alle sind herzlich eingeladen. Du kannst alle Fragen stellen\, die dir unter den Nägeln brennen und dich mit den anderen Teamer*innen über bisherige Erfahrungen und Ideen für das Teamen austauschen. Wenn dir ein Thema besonders wichtig ist\, kannst du uns natürlich schon vorher kontaktieren. \nZielgruppe:\nJuleica-Inhaber*innen und Interessierte zwischen 16 und 26 Jahren \nLeistungen:\nMittagessen und Snacks \nTeilnehmerbetrag:\nkostenfrei \nVeranstaltungsort:\nJugendhaus Domizil (Am alten Nordhäuser Bahnhof 14\, Erfurt) \nVeranstalter:\nNaturfreundejugend Thüringen\nJohannesstr. 127\n99084 Erfurt\ninfo@naturfreundejugned-thueringen.de\,\nTel.: 0361 5623356
URL:https://juleica.ljrt.de/event/teamerinnen-qualifizierung-fit-fuer-den-sommer-fit-fuers-teamen/
LOCATION:Jugendhaus Domizil\, Am alten Nordhäuser Bahnhof 14\, Erfurt\, 99085
CATEGORIES:Fortbildung
ATTACH;FMTTYPE=image/jpeg:https://juleica.ljrt.de/wp-content/uploads/2026/01/Teamerinnen-qualifizierung.jpg
ORGANIZER;CN="Naturfreundejugend Th%C3%BCringen":MAILTO:info@naturfreundejugend-thueringen.de
END:VEVENT
BEGIN:VEVENT
DTSTART;VALUE=DATE:20261010
DTEND;VALUE=DATE:20261017
DTSTAMP:20260425T161937
CREATED:20260123T125458Z
LAST-MODIFIED:20260123T125458Z
UID:10000243-1791590400-1792195199@juleica.ljrt.de
SUMMARY:Juleica-Schulung im Herbst - So wirst du Jugendleiter*in
DESCRIPTION:Juleica-Schulung im Herbst – So wirst du Jugendleiter*in \nTermin: 10.102026 bis 16.10.2026 \nSchulungsinhalte:\nDu willst wissen\, wie man eine Ferienfreizeit organisiert\, Inhalte plant und sich pädagogisch vorbereitet? Du hast schon an vielen Ferienfreizeiten teilgenommen und willst jetzt selbst teamen? Dann sei dabei\, wenn in diesem Herbst wieder Zeit ist für eine Jugendleiter*innen-Schulung im Naturfreundehaus “Thüringer Wald” in Gießübel. Hier lernst du Wissenswertes rund um Jugendschutz\, den pädagogischen Umgang mit Kindern und Jugendlichen\, Erlebnispädagogik und Diversity. Natürlich hast du während der Woche die Chance\, das Gelernte auszuprobieren und aktiv zu werden. Mit der Schulung bist du vorbereitet in der kommenden Saison selbst tätig zu werden und Freizeiten der Naturfreundejugend mit umzusetzen! \nZielgruppe:\nInteressierte zwischen 16 und 26 Jahren \nLeistungen:\nVegetarische und vegane Vollverpflegung\, Übernachtung \nTeilnehmerbetrag:\nkostenfrei \nVeranstalter:\nNaturfreundejugend Thüringen\nJohannesstr. 127\n99084 Erfurt\ninfo@naturfreundejugned-thueringen.de\nTel.: 0361 5623356
URL:https://juleica.ljrt.de/event/juleica-schulung-im-herbst-so-wirst-du-jugendleiterin/
LOCATION:Naturfreundehaus „Thüringer Wald“\, Neubrunnstraße 175\, Gießübel\, 98667
CATEGORIES:Grundausbildung
ATTACH;FMTTYPE=image/jpeg:https://juleica.ljrt.de/wp-content/uploads/2026/01/juleicaschulung-im-herbst.jpg
ORGANIZER;CN="Naturfreundejugend Th%C3%BCringen":MAILTO:info@naturfreundejugend-thueringen.de
END:VEVENT
BEGIN:VEVENT
DTSTART;TZID=Europe/Berlin:20261114T100000
DTEND;TZID=Europe/Berlin:20261114T180000
DTSTAMP:20260425T161937
CREATED:20260202T130516Z
LAST-MODIFIED:20260202T130516Z
UID:10000244-1794650400-1794679200@juleica.ljrt.de
SUMMARY:Mentale Erste Hilfe - Umgang mit psychischen Krisen
DESCRIPTION:Mentale Erste Hilfe – Umgang mit psychischen Krisen \nTermin: 14.11.2026\, 10.00 bis 18.00 \nSchulungsinhalte:\nDu engagierst dich leidenschaftlich in der Arbeit mit Kindern und Jugendlichen und liebst es\, Ferienfreizeiten\, Seminare und andere Veranstaltungen zu teamen\, stößt aber manchmal auf Situationen\, die dich an deine Grenzen bringen? Dann nutze die Chance und bilde dich weiter. Wir beschäftigen uns mit verschiedenen psychischen Krankheiten und Krisensituationen. Du lernst\, Warnsignale bei Teilnehmenden frühzeitig zu erkennen\, sicher zu reagieren und bekommst praktische Tipps und Tricks für die Praxis an die Hand. Neben verständlichem theoretischem Input bekommst du Raum\, dich auszuprobieren\, Fragen zu stellen\, eigene Erfahrungen zu teilen und dich mit anderen auszutauschen. \nZielgruppe:\nJuleica-Inhaber*innen und Interessierte zwischen 16 und 26 Jahren \nLeistungen: \nTeilnehmerbetrag:\nkostenfrei \n 
URL:https://juleica.ljrt.de/event/mentale-erste-hilfe-umgang-mit-psychischen-krisen/
LOCATION:Naturfreundehaus „Charlotte Eisenblätter“\, Johannesstr. 127\, Erfurt\, 99084
CATEGORIES:Fortbildung
ATTACH;FMTTYPE=image/jpeg:https://juleica.ljrt.de/wp-content/uploads/2026/02/mentale-erste-hilfe.jpg
ORGANIZER;CN="Naturfreundejugend Th%C3%BCringen":MAILTO:info@naturfreundejugend-thueringen.de
END:VEVENT
END:VCALENDAR