BEGIN:VCALENDAR
VERSION:2.0
PRODID:-//Juleica Thüringen - ECPv6.15.17.1//NONSGML v1.0//EN
CALSCALE:GREGORIAN
METHOD:PUBLISH
X-WR-CALNAME:Juleica Thüringen
X-ORIGINAL-URL:https://juleica.ljrt.de
X-WR-CALDESC:Veranstaltungen für Juleica Thüringen
REFRESH-INTERVAL;VALUE=DURATION:PT1H
X-Robots-Tag:noindex
X-PUBLISHED-TTL:PT1H
BEGIN:VTIMEZONE
TZID:Europe/Berlin
BEGIN:DAYLIGHT
TZOFFSETFROM:+0100
TZOFFSETTO:+0200
TZNAME:CEST
DTSTART:20230326T010000
END:DAYLIGHT
BEGIN:STANDARD
TZOFFSETFROM:+0200
TZOFFSETTO:+0100
TZNAME:CET
DTSTART:20231029T010000
END:STANDARD
BEGIN:DAYLIGHT
TZOFFSETFROM:+0100
TZOFFSETTO:+0200
TZNAME:CEST
DTSTART:20240331T010000
END:DAYLIGHT
BEGIN:STANDARD
TZOFFSETFROM:+0200
TZOFFSETTO:+0100
TZNAME:CET
DTSTART:20241027T010000
END:STANDARD
BEGIN:DAYLIGHT
TZOFFSETFROM:+0100
TZOFFSETTO:+0200
TZNAME:CEST
DTSTART:20250330T010000
END:DAYLIGHT
BEGIN:STANDARD
TZOFFSETFROM:+0200
TZOFFSETTO:+0100
TZNAME:CET
DTSTART:20251026T010000
END:STANDARD
BEGIN:DAYLIGHT
TZOFFSETFROM:+0100
TZOFFSETTO:+0200
TZNAME:CEST
DTSTART:20260329T010000
END:DAYLIGHT
BEGIN:STANDARD
TZOFFSETFROM:+0200
TZOFFSETTO:+0100
TZNAME:CET
DTSTART:20261025T010000
END:STANDARD
END:VTIMEZONE
BEGIN:VEVENT
DTSTART;VALUE=DATE:20251025
DTEND;VALUE=DATE:20251026
DTSTAMP:20260425T172713
CREATED:20250314T121016Z
LAST-MODIFIED:20250331T114820Z
UID:10000218-1761350400-1761436799@juleica.ljrt.de
SUMMARY:Juleica Auffrischungsschulung Neuhaus am Rennweg
DESCRIPTION:Juleica Auffrischungsschulung Neuhaus am Rennweg \nTermin: 25.10.2025 \nSchulungsinhalte:\nAuffrischung der Juleica- Schulungs-Themen \nAktuelle und individuelle Fragen der TeilnehmerInnen zur ehrenamtlichen Tätigkeit können eingebracht und bearbeitet werden. \nZielgruppe:\nAlle Inhaber*innen einer Jugendleitercard\, die diese verlängern wollen. \nLeistungen:\nSchulung\, Verpflegung \nTeilnehmerbetrag:\nkostenfrei \nVeranstaltungsort:\nIm Teilhabezentrum von Miteinander e.V. in Neuhaus am Rennweg \nVeranstalter:\nMiteinander e.V. – Verein für systemische Sozialarbeit\nThomas-Mann-Str. 18a\n98724 Neuhaus am Rennweg\nn.bode@miteinander-online.de \nJuleica Ausbildung Neuhaus am Rennweg
URL:https://juleica.ljrt.de/event/juleica-auffrischungsschulung-neuhaus-am-rennweg-2/
LOCATION:Teilhabezentrum Miteinander e.V.\, Thomas-Mann-Str. 18a\, Neuhaus am Rennweg\, 98724
CATEGORIES:Fortbildung
ATTACH;FMTTYPE=image/jpeg:https://juleica.ljrt.de/wp-content/uploads/2025/03/Juleica-Auffrischungsschulung.jpg
ORGANIZER;CN="Miteinander e.V.":MAILTO:info@miteinander-neuhaus.de
END:VEVENT
BEGIN:VEVENT
DTSTART;VALUE=DATE:20250822
DTEND;VALUE=DATE:20250824
DTSTAMP:20260425T172713
CREATED:20250314T112011Z
LAST-MODIFIED:20250314T121416Z
UID:10000217-1755820800-1755993599@juleica.ljrt.de
SUMMARY:Juleica Ausbildung in Neuhaus am Rennweg
DESCRIPTION:Juleica Ausbildung in Neuhaus am Rennweg \nTermin:\nBlock I – 22. & 23.08.2025\nBlock II – 05. & 06.09.2025\nBlock III – 12. & 13. 09.2015 \nSchulungsinhalte:\nAlle relevanten Inhalte\, welche in den Juleica-Richtlinien festgelegt sind. (darunter z.B. Kommunikation\, rechtliche Grundlagen\, Aufsichtspflicht\, Jugendschutzgesetz\, Kinderschutz etc.\, Arbeit mit Gruppen\, Sozialisation und Entwicklungspsychologie\, Drogenprävention und viele andere Themen). \nZielgruppe:\nalle Interessierten zwischen 16 -99 \nLeistungen:\nSchulung und Verpflegung \nTeilnehmerbetrag:\nkostenfrei \nVeranstaltungsort:\nTeilhabezentrum von Miteinander e.V. in Neuhaus am Rennweg \nVeranstalter:\nMiteinander e.V. – Verein für systemische Sozialarbeit\nThomas-Mann-Str. 18a\n98724 Neuhaus am Rennweg\nn.bode@miteinander-online.de \n  \nJuleica-Schulung im Frühling \nJuleica Auffrischungsschulung in Neuhaus am Rennweg
URL:https://juleica.ljrt.de/event/juleica-ausbildung-in-neuhaus-am-rennweg/
LOCATION:Teilhabezentrum Miteinander e.V.\, Thomas-Mann-Str. 18a\, Neuhaus am Rennweg\, 98724
CATEGORIES:Grundausbildung
ATTACH;FMTTYPE=image/jpeg:https://juleica.ljrt.de/wp-content/uploads/2024/12/juleica-schulung-neuhaus.jpg
ORGANIZER;CN="Miteinander e.V.":MAILTO:info@miteinander-neuhaus.de
END:VEVENT
BEGIN:VEVENT
DTSTART;VALUE=DATE:20250517
DTEND;VALUE=DATE:20250518
DTSTAMP:20260425T172713
CREATED:20241210T134750Z
LAST-MODIFIED:20250110T134531Z
UID:10000200-1747440000-1747526399@juleica.ljrt.de
SUMMARY:Juleica Auffrischungsschulung Neuhaus am Rennweg
DESCRIPTION:Juleica Auffrischungsschulung Neuhaus am Rennweg \nTermin: 17.05.2025 \nSchulungsinhalte:\nAuffrischung der Juleica- Schulungs-Themen \naktuelle und individuelle Fragen der TN zur ehrenamtlichen Tätigkeit können eingebracht und bearbeitet werden \nZielgruppe:\nJuleica-Inhaber*innen\, die ihre Karte verlängern möchten \nLeistungen:\nSchulung und Verpflegung \nTeilnehmerbetrag:\nkostenfrei \nVeranstalter:\nMIteinander e.V. – Verein für systemische Sozialarbeit\nThomas-Mann-Str. 18a\n98724 Neuhaus am Rennweg\nAnmeldung: n.bode@miteinander-online.de \nJuleica Schulung Neuhaus am Rennweg
URL:https://juleica.ljrt.de/event/juleica-auffrischungsschulung-neuhaus-am-rennweg/
LOCATION:Teilhabezentrum Miteinander e.V.\, Thomas-Mann-Str. 18a\, Neuhaus am Rennweg\, 98724
CATEGORIES:Verlängerungsausbildung
ATTACH;FMTTYPE=image/jpeg:https://juleica.ljrt.de/wp-content/uploads/2024/12/juleica-auffrischung-neuhaus.jpg
ORGANIZER;CN="Miteinander e.V.":MAILTO:info@miteinander-neuhaus.de
END:VEVENT
BEGIN:VEVENT
DTSTART;VALUE=DATE:20250314
DTEND;VALUE=DATE:20250316
DTSTAMP:20260425T172713
CREATED:20241210T130213Z
LAST-MODIFIED:20250314T112259Z
UID:10000199-1741910400-1742083199@juleica.ljrt.de
SUMMARY:Juleica Ausbildung Neuhaus am Rennweg
DESCRIPTION:Juleica Ausbildung Neuhaus am Rennweg \nTermin: 14.-15.03.2025; 28.-29.03.2025; 25.-26.04.2025 \nSchulungsinhalte:\nalle relevanten Inhalte\, welche in den Juleica-Richtlinien festgelegt sind (darunter z.B. Kommunikation\, rechtliche Grundlagen (Aufsichtspflicht\, Jugendschutzgesetz\, Kinderschutz etc.)\, Arbeit mit Gruppen\, Sozialisation und Entwicklungspsychologie\, Drogenprävention und viele andere Themen). \nZielgruppe:\nalle Interessierten zwischen 16 -99 \nLeistungen:\nSchulung und Verpflegung \nTeilnehmerbetrag:\nkostenfrei \nVeranstalter:\nMiteinander e.V. – Verein für systemische Sozialarbeit\nThomas-Mann-Str. 18a\n98724 Neuhaus am Rennweg\nAnmeldung: n.bode@miteinander-online.de \nSonstige Hinweise:\nUm die Juleica zu erhalten\, muss an allen 3 Blöcken teilgenommen werden. \nJuleica Auffrischungsveranstaltung Neuhaus am Rennweg \nJuleica Ausbildung Bad Salzungen \nSchulung Neuhaus am Rennweg im Sommer
URL:https://juleica.ljrt.de/event/juleica-ausbildung-neuhaus-am-rennweg/
LOCATION:Teilhabezentrum Miteinander e.V.\, Thomas-Mann-Str. 18a\, Neuhaus am Rennweg\, 98724
CATEGORIES:Grundausbildung
ATTACH;FMTTYPE=image/jpeg:https://juleica.ljrt.de/wp-content/uploads/2024/12/juleica-schulung-neuhaus.jpg
ORGANIZER;CN="Miteinander e.V.":MAILTO:info@miteinander-neuhaus.de
END:VEVENT
BEGIN:VEVENT
DTSTART;TZID=Europe/Berlin:20240823T160000
DTEND;TZID=Europe/Berlin:20240824T180000
DTSTAMP:20260425T172713
CREATED:20240524T101908Z
LAST-MODIFIED:20240524T102452Z
UID:10000191-1724428800-1724522400@juleica.ljrt.de
SUMMARY:Juleica Grundlagenschulung Neuhaus
DESCRIPTION:Juleica Grundlagenschulung Neuhaus am Rennweg \nTermine:  \nFreitag\, den 23.08.2024 (16:00 -21:00 Uhr)\nSamstag\, den 24.08.2024 (9:00 – 17:00 Uhr) \nFreitag\, den 06.09.2024 (16:00 – 21:00 Uhr)\nSamstag\, den 07.09.2024 (9:00 -17:00 Uhr) \nFreitag\, den 13.09.2024 (16:00 – 21:00 Uhr)\nSamstag\, den 14.09.2024 (9:00 – 17:00 Uhr) \nSchulungsinhalte:\n– Grundlagen der Kommunikation\n– Lebenswelten und Entwicklung von Kindern und Jugendlichen\n– Rechtliche Grundlagen (z.B. Aufsichtspflicht\, Jugendschutzgesetz\, Sexualstrafrecht usw.)\n– Methoden für die Arbeit mit Kinder- und Jugendgruppen\n– Vorurteile und Diskriminierung\n– Gefährdungen von Kindern und Jugendlichen\nUnd vieles mehr …. \nZielgruppe:\nalle Interessierten ab 16 Jahren (nach oben hin offen) \nLeistungen:\nmit Verpflegung\nohne Übernachtung \nTeilnehmerbetrag Juleica Grundlagenschulung Neuhaus:\nkostenlos \nJuleicaausbildung Heilbad Heiligenstadt
URL:https://juleica.ljrt.de/event/juleica-grundlagenschulung-neuhaus/
LOCATION:Teilhabezentrum Miteinander e.V.\, Thomas-Mann-Str. 18a\, Neuhaus am Rennweg\, 98724
CATEGORIES:Grundausbildung
ATTACH;FMTTYPE=image/jpeg:https://juleica.ljrt.de/wp-content/uploads/2024/05/juleica-grundlagen-neuhaus.jpg
ORGANIZER;CN="Miteinander e.V.":MAILTO:info@miteinander-neuhaus.de
END:VEVENT
END:VCALENDAR