BEGIN:VCALENDAR
VERSION:2.0
PRODID:-//Juleica Thüringen - ECPv6.15.17.1//NONSGML v1.0//EN
CALSCALE:GREGORIAN
METHOD:PUBLISH
X-WR-CALNAME:Juleica Thüringen
X-ORIGINAL-URL:https://juleica.ljrt.de
X-WR-CALDESC:Veranstaltungen für Juleica Thüringen
REFRESH-INTERVAL;VALUE=DURATION:PT1H
X-Robots-Tag:noindex
X-PUBLISHED-TTL:PT1H
BEGIN:VTIMEZONE
TZID:Europe/Berlin
BEGIN:DAYLIGHT
TZOFFSETFROM:+0100
TZOFFSETTO:+0200
TZNAME:CEST
DTSTART:20240331T010000
END:DAYLIGHT
BEGIN:STANDARD
TZOFFSETFROM:+0200
TZOFFSETTO:+0100
TZNAME:CET
DTSTART:20241027T010000
END:STANDARD
BEGIN:DAYLIGHT
TZOFFSETFROM:+0100
TZOFFSETTO:+0200
TZNAME:CEST
DTSTART:20250330T010000
END:DAYLIGHT
BEGIN:STANDARD
TZOFFSETFROM:+0200
TZOFFSETTO:+0100
TZNAME:CET
DTSTART:20251026T010000
END:STANDARD
BEGIN:DAYLIGHT
TZOFFSETFROM:+0100
TZOFFSETTO:+0200
TZNAME:CEST
DTSTART:20260329T010000
END:DAYLIGHT
BEGIN:STANDARD
TZOFFSETFROM:+0200
TZOFFSETTO:+0100
TZNAME:CET
DTSTART:20261025T010000
END:STANDARD
END:VTIMEZONE
BEGIN:VEVENT
DTSTART;VALUE=DATE:20250215
DTEND;VALUE=DATE:20250217
DTSTAMP:20260426T001650
CREATED:20250128T141950Z
LAST-MODIFIED:20250213T142834Z
UID:10000207-1739577600-1739750399@juleica.ljrt.de
SUMMARY:Prävention sexualisierter Gewalt für Gruppenleitungen
DESCRIPTION:Prävention sexualisierter Gewalt für Gruppenleitungen (JuLeiCa Fortbildung) \nTermin: 15.02.-16.02.25 \nSchulungsinhalte:\n– Was ist sexualisierte Gewalt und wie häufig kommt sie vor?\n– Welche Strategien wenden Täter*innen an?\n– Wie kann ich mich und andere Personen für das Thema Grenzverletzungen sensibilisieren?\n– Welche Methoden und Maßnahmen kann ich in meiner Gruppe umsetzen?\nWie handle ich im Verdachtsfall richtig? \nZielgruppe:\nVolljährige Gruppenleitungen und Betreuungspersonen\, die in der Kinder- und Jugendarbeit tätig sind \nLeistungen:\nÜbernachtung\, Vollpension\, Materialsammlung \nTeilnehmerbetrag: 0 \nVeranstaltungsort:\nJugendherberge Erfurt\nHochheimer Str. 12\n99094 Erfurt \nVeranstalter:\nArbeiter-Samariter-Jugend Thüringen\nRankestraße 59\n99096 Erfurt \nSonstige Hinweise:\nWeitere Informationen und das Anmeldeformular können per E-Mail angefragt werden: e.koehnlein@asj-thueringen.de \n  \nJuleica Grundausbildung Ilmenau \nSpiel- und Lernraum Jugendrotkreuz
URL:https://juleica.ljrt.de/event/praevention-sexualisierter-gewalt-fuer-gruppenleitungen/
CATEGORIES:Fortbildung
ATTACH;FMTTYPE=image/jpeg:https://juleica.ljrt.de/wp-content/uploads/2025/01/praevention-sexueller-gewalt.jpg
END:VEVENT
END:VCALENDAR