BEGIN:VCALENDAR
VERSION:2.0
PRODID:-//Juleica Thüringen - ECPv6.15.17.1//NONSGML v1.0//EN
CALSCALE:GREGORIAN
METHOD:PUBLISH
X-WR-CALNAME:Juleica Thüringen
X-ORIGINAL-URL:https://juleica.ljrt.de
X-WR-CALDESC:Veranstaltungen für Juleica Thüringen
REFRESH-INTERVAL;VALUE=DURATION:PT1H
X-Robots-Tag:noindex
X-PUBLISHED-TTL:PT1H
BEGIN:VTIMEZONE
TZID:Europe/Berlin
BEGIN:DAYLIGHT
TZOFFSETFROM:+0100
TZOFFSETTO:+0200
TZNAME:CEST
DTSTART:20250330T010000
END:DAYLIGHT
BEGIN:STANDARD
TZOFFSETFROM:+0200
TZOFFSETTO:+0100
TZNAME:CET
DTSTART:20251026T010000
END:STANDARD
BEGIN:DAYLIGHT
TZOFFSETFROM:+0100
TZOFFSETTO:+0200
TZNAME:CEST
DTSTART:20260329T010000
END:DAYLIGHT
BEGIN:STANDARD
TZOFFSETFROM:+0200
TZOFFSETTO:+0100
TZNAME:CET
DTSTART:20261025T010000
END:STANDARD
BEGIN:DAYLIGHT
TZOFFSETFROM:+0100
TZOFFSETTO:+0200
TZNAME:CEST
DTSTART:20270328T010000
END:DAYLIGHT
BEGIN:STANDARD
TZOFFSETFROM:+0200
TZOFFSETTO:+0100
TZNAME:CET
DTSTART:20271031T010000
END:STANDARD
END:VTIMEZONE
BEGIN:VEVENT
DTSTART;VALUE=DATE:20260424
DTEND;VALUE=DATE:20260425
DTSTAMP:20260426T042653
CREATED:20260123T105948Z
LAST-MODIFIED:20260123T130758Z
UID:10000241-1776988800-1777075199@juleica.ljrt.de
SUMMARY:Juleica-Schulung in Jena Dein Start ins Ehrenamt
DESCRIPTION:Juleica-Schulung in Jena Dein Start ins Ehrenamt \nTermin: 24.04.2026 // 26.04.2026 // 08.05.2026 bis 10.05.2026 \nSchulungsinhalte:\nEhrenamtliches Engagement\, Ferienfreizeiten teamen\, besondere Aktionen starten – all das und viel mehr kannst du mit einer Juleica! Bei unserer Jugendleiter*innen-Schulung (Juleica-Schulung) mit spannenden Inhalten\, zahlreichen Praxisübungen und Teamchallenges lernst du alles\, was du für die Arbeit mit Kindern und Jugendlichen brauchst. Von Gruppenpädagogik über rechtliche Grundlagen und Diversity\, bis hin zu kreativen Methoden – hier bekommst du Skills\, die wirklich zählen. Außerdem triffst du andere engagierte junge Menschen\, kannst dich vernetzen und erfährst\, welche vielfältigen Möglichkeiten ein Ehrenamt bei der Naturfreundejugend dir bietet. Freu dich auf zwei unvergessliche Wochenenden! \nZielgruppe:\nInteressierte zwischen 16 und 26 Jahren \nLeistungen:\n24.04.2026 und 26.04.2026: vegetarisches / veganes Mittagessen und Snacks\, OHNE Übernachtung\n08.05.2026 bis 10.05.2026: vegetarisch / vegane Vollverpflegung und Übernachtung \nTeilnehmerbetrag:\nkostenfrei \nVeranstaltungsort:\n24.04.2026 und 26.04.2026: Tageszentrum Wandelwelten (Forstweg); Jena\n08.05.2026 bis 10.05.2026: Jugendbildungsstätte Hütten (Blitz e.V) \nVeranstalter:\nNaturfreundejugend Thüringen\nJohannesstr. 127\n99084 Erfurt\ninfo@naturfreundejugned-thueringen.de
URL:https://juleica.ljrt.de/event/juleica-schulung-in-jena-dein-start-ins-ehrenamt/
CATEGORIES:Grundausbildung
ATTACH;FMTTYPE=image/jpeg:https://juleica.ljrt.de/wp-content/uploads/2025/02/jugendleiterinnen-schulung-jena.jpg
ORGANIZER;CN="Naturfreundejugend Th%C3%BCringen":MAILTO:info@naturfreundejugend-thueringen.de
END:VEVENT
END:VCALENDAR